BEGIN:VCALENDAR
VERSION:2.0
PRODID:-//Writers SA - Event Espresso Version 3.1.37.7.P//NONSGML v1.0//EN
METHOD:PUBLISH
X-ORIGINAL-URL:https://writerssa.org.au/event-registration/?ee=704
X-WR-CALDESC:Writers SA
X-WR-TIMEZONE:Australia/Adelaide
BEGIN:VEVENT
DTSTAMP:20190630T033234
UID:p4i95ftghs5ejel9m0jcfqrvc3-5d17a6d59ea3d2.85864333@https://writerssa.org.au/event-registration/?ee=704
ORGANIZER:MAILTO:info@writerssa.org.au
DTSTART:20190720T103000
DTEND:20190920T120000
STATUS:CONFIRMED
URL:https://writerssa.org.au/event-registration/?ee=704
SUMMARY:Teen Writers Club Term 3 2019 - Group One
LOCATION:Level 2, 235 Hutt St Adelaide, SA 5000 Australia
END:VEVENT
END:VCALENDAR
