BEGIN:VCALENDAR
VERSION:2.0
PRODID:-//SA Writers Centre - Event Espresso Version 3.1.37.7.P//NONSGML v1.0//EN
METHOD:PUBLISH
X-ORIGINAL-URL:https://sawriters.org.au/event-registration/?ee=534
X-WR-CALDESC:SA Writers Centre
X-WR-TIMEZONE:Australia/Adelaide
BEGIN:VEVENT
DTSTAMP:20170825T210209
UID:79fd72474822b91391cf852f5bc260e3-59a00ab9023351.62389023@https://sawriters.org.au/event-registration/?ee=534
ORGANIZER:MAILTO:admin@sawriters.org.au
DTSTART:20170909T140000
DTEND:20170909T170000
STATUS:CONFIRMED
URL:https://sawriters.org.au/event-registration/?ee=534
SUMMARY:Roll Up Role Playing for Character Creation
LOCATION:Level 3, Rundle Place Rundle Mall (Enter via Francis St) Adelaide, SA 5000 Australia
END:VEVENT
END:VCALENDAR
