BEGIN:VCALENDAR
VERSION:2.0
PRODID:-//SA Writers Centre Inc - Event Espresso Version 3.1.37.7.P//NONSGML v1.0//EN
METHOD:PUBLISH
X-ORIGINAL-URL:https://sawriters.org.au/event-registration/?ee=474
X-WR-CALDESC:SA Writers Centre Inc
X-WR-TIMEZONE:Australia/Adelaide
BEGIN:VEVENT
DTSTAMP:20170310T102249
UID:933b611bd17118f9101870aaa720a118-58c1eab6d8f730.00085228@https://sawriters.org.au/event-registration/?ee=474
ORGANIZER:MAILTO:admin@sawriters.org.au
DTSTART:20170520T140000
DTEND:20170520T170000
STATUS:CONFIRMED
URL:https://sawriters.org.au/event-registration/?ee=474
SUMMARY:Welcome to World Building
LOCATION:Level 2 187 Rundle Street Adelaide, SA 5000 Australia
END:VEVENT
END:VCALENDAR
